Workbook

Sheet 一般公共预算收入明细表
A1: 宁河区一般公共预算收入明细表
A2: 表一 | D2: 单位:万元
A3: 科 目 | B3: 2025年调整预算数 | C3: 2025年完成数 | D3: 2026年预算数
A4: 一般公共预算收入 | B4: =B5+B20 -> 330000 | C4: =C5+C20 -> 323496 | D4: =D5+D20 -> 260000
A5: （一）税收收入 | B5: =SUM(B6:B19) -> 120852 | C5: =SUM(C6:C19) -> 120852 | D5: =SUM(D6:D19) -> 125000
A6: 1、增值税 | B6: 39904 | C6: 39904 | D6: 43000
A7: 2、企业所得税 | B7: 17648 | C7: 17648 | D7: 17500
A8: 3、个人所得税 | B8: 3356 | C8: 3356 | D8: 3400
A9: 4、资源税 | B9: 1697 | C9: 1697 | D9: 1700
A10: 5、城市维护建设税 | B10: 12445 | C10: 12445 | D10: 13000
A11: 6、房产税 | B11: 15571 | C11: 15571 | D11: 16500
A12: 7、印花税 | B12: 9342 | C12: 9342 | D12: 9600
A13: 8、城镇土地使用税 | B13: 3460 | C13: 3460 | D13: 2600
A14: 9、土地增值税 | B14: 2995 | C14: 2995 | D14: 3600
A15: 10、车船税 | B15: 3827 | C15: 3827 | D15: 3360
A16: 11、耕地占用税 | B16: 2106 | C16: 2106 | D16: 1140
A17: 12、契税 | B17: 6963 | C17: 6963 | D17: 8000
... A19: 14、其他税收收入 | B19: 4 | C19: 4 | D19: 0
A20: （二）非税收入 | B20: =SUM(B21:B26) -> 209148 | C20: =SUM(C21:C26) -> 202644 | D20: =SUM(D21:D26) -> 135000
A21: 1、专项收入 | B21: 10808 | C21: 10808 | D21: 10800
A22: 2、行政事业性收费收入 | B22: 2259 | C22: 2259 | D22: 3000
A23: 3、罚没收入 | B23: 15042 | C23: 15042 | D23: 11000
A24: 4、国有资源（资产）有偿使用收入 | B24: =174531+6504 -> 181035 | C24: 174531 | D24: 110150
A25: 5、捐赠收入
A26: 6、其他收入 | B26: 4 | C26: 4 | D26: 50
A27: 一般公共预算收入合计 | B27: =B4 -> 330000 | C27: =C4 -> 323496 | D27: =D4 -> 260000
A28: 加：市转移支付补助等收入 | B28: 263867 | C28: 263867 | D28: =321966-79 -> 321887
A29: 新增一般债券转贷收入 | B29: 66274 | C29: 66274
A30: 再融资一般债券转贷收入 | B30: =41700+18400 -> 60100 | C30: 60100
A31: 上年结转收入 | B31: 50891 | C31: 50891 | D31: 42514
A32: 调入资金 | B32: =28742+24000+2141 -> 54883 | C32: 54883 | D32: 80000
A33: 动用预算稳定调节基金 | B33: 40068 | C33: 40068
A34: 动用预算周转金
A35: 一般公共预算收入总计 | B35: =SUM(B27:B34) -> 866083 | C35: =SUM(C27:C34) -> 859579 | D35: =SUM(D27:D34) -> 704401

Sheet 一般公共预算支出功能分类明细表
B2: 宁河区一般公共预算支出功能分类明细表
A3: 表二
A4: 科目编码 | B4: 科目名称 | C4: 2025年调整预算数 | D4: 2025年实际执行数 | E4: 2026年预算数
A5: 201 | B5: 一般公共服务支出 | C5: =C6+C11+C13+C18+C23+C27+C30+C33+C36+C38+C42+C46+C48+C51+C54+C58+C64+C68+C72+C76+C78+C88+C91+C93+C95 -> 74628 | D5: =D6+D11+D13+D18+D23+D27+D30+D33+D36+D38+D42+D46+D48+D51+D54+D58+D64+D68+D72+D76+D78+D88+D91+D93+D95 -> 74628 | E5: =E6+E11+E13+E18+E23+E27+E30+E33+E36+E38+E42+E46+E48+E51+E54+E58+E64+E68+E72+E76+E78+E88+E91+E93+E95 -> 53558
A6: 20101 | B6: 人大事务 | C6: =C7+C8+C9+C10 -> 721 | D6: =SUM(D7:D10) -> 721 | E6: =SUM(E7:E10) -> 648
A7: 2010101 | B7: 行政运行 | C7: 672 | D7: 672 | E7: 648
A8: 2010104 | B8: 人大会议 | C8: 33 | D8: 33 | E8: 0
A9: 2010108 | B9: 代表工作 | C9: 14 | D9: 14 | E9: 0
A10: 2010199 | B10: 其他人大事务支出 | C10: 2 | D10: 2 | E10: 0
A11: 20102 | B11: 政协事务 | C11: =C12 -> 764 | D11: =D12 -> 764 | E11: =E12 -> 639
A12: 2010201 | B12: 行政运行 | C12: 764 | D12: 764 | E12: 639
A13: 20103 | B13: 政府办公厅(室)及相关机构事务 | C13: =SUM(C14:C17) -> 48717 | D13: =SUM(D14:D17) -> 48717 | E13: =SUM(E14:E17) -> 36735
A14: 2010301 | B14: 行政运行 | C14: 23226 | D14: 23226 | E14: =18560-30+1 -> 18531
A15: 2010303 | B15: 机关服务 | C15: 920 | D15: 920 | E15: 0
A16: 2010350 | B16: 事业运行 | C16: 10722 | D16: 10722 | E16: 14316
A17: 2010399 | B17: 其他政府办公厅(室)及相关机构事务支出 | C17: 13849 | D17: 13849 | E17: 3888
A18: 20104 | B18: 发展与改革事务 | C18: =SUM(C19:C22) -> 2128 | D18: =SUM(D19:D22) -> 2128 | E18: =SUM(E19:E22) -> 1514
A19: 2010401 | B19: 行政运行 | C19: 1950 | D19: 1950 | E19: 1409
A20: 2010402 | B20: 一般行政管理事务 | C20: 12 | D20: 12 | E20: 0
A21: 2010403 | B21: 机关服务 | C21: 4 | D21: 4 | E21: 0
A22: 2010408 | B22: 物价管理 | C22: 162 | D22: 162 | E22: 105
A23: 20105 | B23: 统计信息事务 | C23: =SUM(C24:C26) -> 546 | D23: =SUM(D24:D26) -> 546 | E23: =SUM(E24:E26) -> 452
A24: 2010501 | B24: 行政运行 | C24: 411 | D24: 411 | E24: 363
A25: 2010505 | B25: 专项统计业务 | C25: 50 | D25: 50 | E25: 0
A26: 2010550 | B26: 事业运行 | C26: 85 | D26: 85 | E26: 89
A27: 20106 | B27: 财政事务 | C27: =SUM(C28:C29) -> 4531 | D27: =SUM(D28:D29) -> 4531 | E27: =SUM(E28:E29) -> 1113
A28: 2010601 | B28: 行政运行 | C28: 4086 | D28: 4086 | E28: =667-30 -> 637
A29: 2010650 | B29: 事业运行 | C29: 445 | D29: 445 | E29: 476
A30: 20107 | B30: 税收事务 | C30: =SUM(C31:C32) -> 781 | D30: =SUM(D31:D32) -> 781 | E30: =SUM(E31:E32) -> 0
A31: 2010701 | B31: 行政运行 | C31: 631 | D31: 631 | E31: 0
A32: 2010710 | B32: 税收业务 | C32: 150 | D32: 150 | E32: 0
A33: 20108 | B33: 审计事务 | C33: =SUM(C34:C35) -> 549 | D33: =SUM(D34:D35) -> 549 | E33: =SUM(E34:E35) -> 523
A34: 2010801 | B34: 行政运行 | C34: 543 | D34: 543 | E34: 523
A35: 2010804 | B35: 审计业务 | C35: 6 | D35: 6 | E35: 0
A36: 20109 | B36: 海关事务 | C36: =C37 -> 24 | D36: =D37 -> 24 | E36: =E37 -> 0
A37: 2010999 | B37: 其他海关事务支出 | C37: 24 | D37: 24 | E37: 0
A38: 20111 | B38: 纪检监察事务 | C38: =SUM(C39:C41) -> 2596 | D38: =SUM(D39:D41) -> 2596 | E38: =SUM(E39:E41) -> 2293
A39: 2011101 | B39: 行政运行 | C39: 2476 | D39: 2476 | E39: 2135
A40: 2011150 | B40: 事业运行 | C40: 66 | D40: 66 | E40: 158
A41: 2011199 | B41: 其他纪检监察事务支出 | C41: 54 | D41: 54 | E41: 0
...

Sheet 一般公共预算支出经济分类明细表
B1: 宁河区一般公共预算支出经济分类明细表
A2: 表三
A3: 科目编码 | B3: 科目名称 | C3: 2025年调整预算数 | D3: 2025年实际执行数 | E3: 2026年预算数
B4: 一般公共预算支出经济分类合计 | C4: =C5+C10+C21+C29+C35+C39+C42+C46+C49+C55+C58+C61+C63+C66+C69 -> 853461 | D4: =D5+D10+D21+D29+D35+D39+D42+D46+D49+D55+D58+D61+D63+D66+D69 -> 817065 | E4: =E5+E10+E21+E29+E35+E39+E42+E46+E49+E55+E58+E61+E63+E66+E69 -> 704401
A5: 501 | B5: 机关工资福利支出 | C5: =SUM(C6:C9) -> 101693 | D5: =SUM(D6:D9) -> 101693 | E5: =SUM(E6:E9) -> 106119
A6: 50101 | B6: 工资奖金津补贴 | C6: 49578 | D6: 49578 | E6: 53874
A7: 50102 | B7: 社会保障缴费 | C7: 14436 | D7: 14436 | E7: 15423
A8: 50103 | B8: 住房公积金 | C8: 19405 | D8: 19405 | E8: 19753
A9: 50199 | B9: 其他工资福利支出 | C9: 18274 | D9: 18274 | E9: 17069
A10: 502 | B10: 机关商品和服务支出 | C10: =SUM(C11:C20) -> 35324 | D10: =SUM(D11:D20) -> 35324 | E10: =SUM(E11:E20) -> 23627
A11: 50201 | B11: 办公经费 | C11: 9044 | D11: 9044 | E11: 9098
A12: 50202 | B12: 会议费 | C12: 89 | D12: 89 | E12: 4
A13: 50203 | B13: 培训费 | C13: 106 | D13: 106 | E13: 33
A14: 50204 | B14: 专用材料购置费 | C14: 1646 | D14: 1646 | E14: 764
A15: 50205 | B15: 委托业务费 | C15: 13392 | D15: 13392 | E15: 3500
A16: 50206 | B16: 公务接待费 | C16: 1 | D16: 1 | E16: 3
A17: 50207 | B17: 因公出国(境)费用 | C17: 50 | D17: 50 | E17: 0
A18: 50208 | B18: 公务用车运行维护费 | C18: 168 | D18: 168 | E18: 183
A19: 50209 | B19: 维修(护)费 | C19: 1000 | D19: 1000 | E19: 906
A20: 50299 | B20: 其他商品和服务支出 | C20: 9828 | D20: 9828 | E20: =16136-7000 -> 9136
A21: 503 | B21: 机关资本性支出 | C21: =SUM(C22:C28) -> 105588 | D21: =SUM(D22:D28) -> 105588 | E21: =SUM(E22:E28) -> 62182
A22: 50301 | B22: 房屋建筑物购建 | C22: 12401 | D22: 12401 | E22: 0
A23: 50302 | B23: 基础设施建设 | C23: 74354 | D23: 74354 | E23: 59116
A24: 50303 | B24: 公务用车购置 | C24: 118 | D24: 118 | E24: 100
A25: 50305 | B25: 土地征迁补偿和安置支出 | C25: 4943 | D25: 4943 | E25: 1396
A26: 50306 | B26: 设备购置 | C26: 3106 | D26: 3106 | E26: 613
A27: 50307 | B27: 大型修缮 | C27: 1040 | D27: 1040 | E27: 0
A28: 50399 | B28: 其他资本性支出 | C28: 9626 | D28: 9626 | E28: 957
A29: 504 | B29: 机关资本性支出(基本建设) | C29: =SUM(C30:C34) -> 8514 | D29: =SUM(D30:D34) -> 8514 | E29: =SUM(E30:E34) -> 6689
A30: 50401 | B30: 房屋建筑物购建 | C30: 617 | D30: 617 | E30: 0
A31: 50402 | B31: 基础设施建设 | C31: 6797 | D31: 6797 | E31: 6541
A32: 50404 | B32: 设备购置 | C32: 54 | D32: 54 | E32: 148
A33: 50405 | B33: 大型修缮 | C33: 52 | D33: 52 | E33: 0
A34: 50499 | B34: 其他资本性支出 | C34: 994 | D34: 994 | E34: 0
A35: 505 | B35: 对事业单位经常性补助 | C35: =SUM(C36:C38) -> 212623 | D35: =SUM(D36:D38) -> 212623 | E35: =SUM(E36:E38) -> 214721
A36: 50501 | B36: 工资福利支出 | C36: 186113 | D36: 186113 | E36: 190726
A37: 50502 | B37: 商品和服务支出 | C37: 25940 | D37: 25940 | E37: 23425
A38: 50599 | B38: 其他对事业单位补助 | C38: 570 | D38: 570 | E38: 570
A39: 506 | B39: 对事业单位资本性补助 | C39: =SUM(C40:C41) -> 21452 | D39: =SUM(D40:D41) -> 21452 | E39: =SUM(E40:E41) -> 16116
A40: 50601 | B40: 资本性支出 | C40: 17228 | D40: 17228 | E40: 15593
...

Sheet 政府性基金预算收入
A1: 宁河区政府性基金预算收入明细表
A2: 表四 | D2: 单位：万元
A3: 科 目 | B3: 2025年调整预算数 | C3: 2025年完成数 | D3: 2026年预算数
A4: 政府性基金预算收入合计 | B4: =B5 -> 41000 | C4: =C5 -> 39388 | D4: =D5 -> 212774
A5: 非税收入 | B5: =B6+B18 -> 41000 | C5: =C6+C18 -> 39388 | D5: =D6+D18 -> 212774
A6: 政府性基金收入 | B6: =SUM(B7:B9,B16,B17) -> 40916 | C6: =SUM(C7:C9,C16,C17) -> 39304 | D6: =SUM(D7:D9,D16,D17) -> 66946
A7: 国有土地收益基金收入
A8: 农业土地开发资金收入
A9: 国有土地使用权出让收入 | B9: =SUM(B10:B15) -> 37426 | C9: =SUM(C10:C15) -> 35814 | D9: =SUM(D10:D15) -> 62946
A10: 补缴的土地价款 | B10: 788 | C10: 788
A11: 划拨土地收入 | B11: 138 | C11: 138 | D11: 170
A12: 土地出让政府净收益 | B12: =22703+1612 -> 24315 | C12: =22703 -> 22703 | D12: 19776
A13: 土地收购整理成本 | B13: 14053 | C13: 14053 | D13: 44000
A14: 缴纳新增建设用地土地有偿使用费 | B14: -2875 | C14: -2875 | D14: -2000
A15: 其他土地出让收入 | B15: 1007 | C15: 1007 | D15: 1000
A16: 城市基础设施配套费收入 | B16: 2403 | C16: 2403 | D16: 3000
A17: 污水处理费收入 | B17: 1087 | C17: 1087 | D17: 1000
A18: 专项债券对应项目专项收入 | B18: =SUM(B19:B20) -> 84 | C18: =SUM(C19:C20) -> 84 | D18: =SUM(D19:D20) -> 145828
A19: 国有土地使用权出让金专项债务对应项目专项
A20: 其他政府性基金专项债务对应项目专项收入 | B20: 84 | C20: 84 | D20: 145828
A21: 政府性基金预算收入合计 | B21: =B4 -> 41000 | C21: =C4 -> 39388 | D21: =D4 -> 212774
A22: 加：市转移支付补助等收入 | B22: 39401 | C22: 39401 | D22: 13000
A23: 新增专项债券转贷收入 | B23: 213400 | C23: 213400
A24: 再融资专项债券转贷收入 | B24: =254400+299500 -> 553900 | C24: =299500+254400 -> 553900
A25: 上年结余收入 | B25: 332090 | C25: 332090 | D25: 162973
A26: 调入资金
A27: 政府性基金收入总计 | B27: =SUM(B21:B26) -> 1179791 | C27: =SUM(C21:C26) -> 1178179 | D27: =SUM(D21:D26) -> 388747

Sheet 政府性基金预算支出功能分类明细表 
B1: 宁河区政府性基金预算支出功能分类明细表
A2: 表五 | C2: 单位：万元
A3: 科目编码 | B3: 科目名称 | C3: 2025年调整预算数 | D3: 2025年实际执行数 | E3: 2026年预算数
A4: 210 | B4: 卫生健康支出 | C4: =C5 -> 718 | D4: =D5 -> 718 | E4: =E5 -> 919
A5: 21098 | B5: 超长期特别国债安排的支出 | C5: =C6 -> 718 | D5: =D6 -> 718 | E5: =E6 -> 919
A6: 2109899 | B6: 其他卫生健康支出 | C6: 718 | D6: 718 | E6: 919
A7: 212 | B7: 城乡社区支出 | C7: =C8+C18+C20+C25 -> 53208 | D7: =D8+D18+D20+D25 -> 53208 | E7: =E8+E18+E20++E23+E25 -> 74004
A8: 21208 | B8: 国有土地使用权出让收入安排的支出 | C8: =SUM(C9:C17) -> 40252 | D8: =SUM(D9:D17) -> 40252 | E8: =SUM(E9:E17) -> 60676
A9: 2120801 | B9: 征地和拆迁补偿支出 | C9: 16853 | D9: 16853 | E9: 20437
A10: 2120802 | B10: 土地开发支出 | C10: 54 | D10: 54 | E10: 1001
A11: 2120803 | B11: 城市建设支出 | C11: 809 | D11: 809 | E11: 4389
A12: 2120804 | B12: 农村基础设施建设支出 | C12: 99 | D12: 99 | E12: 2500
A13: 2120806 | B13: 土地出让业务支出 | C13: 0 | D13: 0 | E13: 1064
A14: 2120810 | B14: 棚户区改造支出 | C14: 720 | D14: 720 | E14: 1063
A15: 2120814 | B15: 农业生产发展支出 | C15: 7403 | D15: 7403 | E15: 6279
A16: 2120815 | B16: 农村社会事业支出 | C16: 300 | D16: 300 | E16: 220
A17: 2120816 | B17: 农业农村生态环境支出 | C17: 14014 | D17: 14014 | E17: 23723
A18: 21210 | B18: 国有土地收益基金安排的支出 | C18: =C19 -> 0 | D18: =D19 -> 0
A19: 2121002 | B19: 土地开发支出 | D19: 0
A20: 21213 | B20: 城市基础设施配套费安排的支出 | C20: =C21+C22 -> 17 | D20: =D21+D22 -> 17 | E20: =E21+E22 -> 2500
A21: 2121301 | B21: 城市公共设施 | C21: 17 | D21: 17 | E21: 2500
A22: 2121399 | B22: 其他城市基础设施配套费安排的支出 | D22: 0
A23: 21216 | B23: 棚户区改造专项债券收入安排的支出 | E23: =330 -> 330
A24: 2121602 | B24: 土地开发支出 | E24: 330
A25: 21298 | B25: 超长期特别国债安排的支出 | C25: =C26 -> 12939 | D25: =D26 -> 12939 | E25: =E26 -> 10498
A26: 2129801 | B26: 城乡社区公共设施 | C26: 12939 | D26: 12939 | E26: 10498
A27: 213 | B27: 农林水支出 | C27: =C28 -> 0 | D27: =D28 -> 0 | E27: =E28 -> 2
A28: 21372 | B28: 大中型水库移民后期扶持基金支出 | C28: =C29 -> 0 | D28: =D29 -> 0 | E28: =E29 -> 2
A29: 2137201 | B29: 移民补助 | E29: 2
A30: 215 | B30: 资源勘探工业信息等支出 | C30: =C31 -> 3384 | D30: =D31 -> 3384
A31: 21598 | B31: 超长期特别国债安排的支出 | C31: =C32 -> 3384 | D31: =D32 -> 3384
A32: 2159802 | B32: 制造业 | C32: 3384 | D32: 3384
A33: 222 | B33: 粮油物资储备支出 | C33: =C34 -> 1600 | D33: =D34 -> 1600
A34: 22298 | B34: 超长期特别国债安排的支出 | C34: =C35 -> 1600 | D34: =D35 -> 1600
A35: 2229801 | B35: 设施建设 | C35: =1600 -> 1600 | D35: 1600
A36: 224 | B36: 灾害防治及应急管理支出 | C36: =C37 -> 34929 | D36: =D37 -> 34929 | E36: =E37 -> 6947
A37: 22498 | B37: 用超长期特别国债收入安排的支出 | C37: =C38 -> 34929 | D37: =D38 -> 34929 | E37: =E38 -> 6947
A38: 2249802 | B38: 自然灾害恢复重建支出 | C38: 34929 | D38: 34929 | E38: 6947
A39: 229 | B39: 其他支出 | C39: =C40+C44+C50 -> 304730 | D39: =D40+D44+D50 -> 268434 | E39: =E40+E44+E50 -> 207357
A40: 22904 | B40: 其他政府性基金及对应专项债务收入安排的支出 | C40: =C42+C43 -> 299886 | D40: =D42+D43 -> 263590 | E40: =E41+E42+E43 -> 205680
...

Sheet 政府性基金预算支出经济分类明细表
B1: 宁河区政府性基金预算支出经济分类明细表
A2: 表六 | E2: 单位：万元
A3: 科目编码 | B3: 科目名称 | C3: 2025年调整预算数 | D3: 2025年实际执行数 | E3: 2026年预算数
B4: 政府性基金支出经济分类合计 | C4: =C5+C11+C18+C21+C23+C26+C29+C33+C36+C38 -> 1051502 | D4: =D5+D11+D18+D21+D23+D26+D29+D33+D36+D38 -> 1015206 | E4: =E5+E11+E18+E21+E23+E26+E29+E33+E36+E38 -> 388747
A5: 502 | B5: 机关商品和服务支出 | C5: =SUM(C6:C10) -> 13578 | D5: =SUM(D6:D10) -> 13578 | E5: =SUM(E6:E10) -> 32282
A6: 50201 | B6: 办公经费 | C6: 203 | D6: 203 | E6: 89
A7: 50204 | B7: 专用材料购置费 | E7: 75
A8: 50205 | B8: 委托业务费 | C8: 2214 | D8: 2214 | E8: 6054
A9: 50209 | B9: 维修（护）费 | C9: 253 | D9: 253 | E9: 2
A10: 50299 | B10: 其他商品和服务支出 | C10: 10908 | D10: 10908 | E10: 26062
A11: 503 | B11: 机关资本性支出 | C11: =SUM(C12:C17) -> 155346 | D11: =SUM(D12:D17) -> 155346 | E11: =SUM(E12:E17) -> 65486
A12: 50301 | B12: 房屋建筑物购建 | C12: 24692 | D12: 24692 | E12: 12003
A13: 50302 | B13: 基础设施建设 | C13: 123665 | D13: 123665 | E13: 52265
A14: 50305 | B14: 土地征迁补偿和安置支出 | C14: 125 | D14: 125 | E14: 146
A15: 50306 | B15: 设备购置 | C15: 3294 | D15: =3294 -> 3294
A16: 50307 | B16: 大型修缮 | C16: 678 | D16: 678 | E16: 170
A17: 50399 | B17: 其他资本性支出 | C17: 2892 | D17: =2891+1 -> 2892 | E17: 902
A18: 504 | B18: 机关资本性支出(基本建设) | C18: =SUM(C19:C20) -> 100570 | D18: =SUM(D19:D20) -> 64274 | E18: =SUM(E19:E20) -> 137731
A19: 50401 | B19: 房屋建筑物购建 | C19: 2719 | D19: 2719 | E19: 500
A20: 50402 | B20: 基础设施建设 | C20: =61555+36296 -> 97851 | D20: 61555 | E20: =64352+72879 -> 137231
A21: 505 | B21: 对事业单位经常性补助 | C21: =C22 -> 1487 | D21: =D22 -> 1487 | E21: =E22 -> 1808
A22: 50502 | B22: 商品和服务支出 | C22: 1487 | D22: 1487 | E22: 1808
A23: 506 | B23: 对事业单位资本性补助 | C23: =C24+C25 -> 115765 | D23: =D24+D25 -> 115765 | E23: =E24+E25 -> 49765
A24: 50601 | B24: 资本性支出 | C24: 110204 | D24: 110204 | E24: 44036
A25: 50602 | B25: 资本性支出(基本建设) | C25: 5561 | D25: 5561 | E25: 5729
A26: 507 | B26: 对企业补助 | C26: =SUM(C27:C28) -> 10872 | D26: =SUM(D27:D28) -> 10872 | E26: =SUM(E27:E27) -> 0
A27: 50701 | B27: 费用补贴 | C27: 9337 | D27: 9337
A28: 50799 | B28: 其他对企业补助 | C28: 1535 | D28: 1535
A29: 509 | B29: 对个人和家庭的补助 | C29: =SUM(C30:C32) -> 952 | D29: =SUM(D30:D32) -> 952 | E29: =SUM(E30:E32) -> 2157
A30: 50901 | B30: 社会福利和救助 | C30: 190 | D30: 190 | E30: 504
A31: 50903 | B31: 个人农业生产补贴 | C31: 330 | D31: 330 | E31: 1294
A32: 50999 | B32: 其他对个人和家庭的补助 | C32: 432 | D32: 432 | E32: 359
A33: 511 | B33: 债务利息及费用支出 | C33: =C34+C35 -> 93732 | D33: =D34+D35 -> 93732 | E33: =E34+E35 -> 94996
A34: 51101 | B34: 国内债务付息 | C34: 93101 | D34: 93101 | E34: 94988
A35: 51103 | B35: 国内债务发行费用 | C35: 631 | D35: 631 | E35: 8
A36: 512 | B36: 债务还本支出 | C36: =C37 -> 559200 | D36: =D37 -> 559200 | E36: =E37 -> 4522
A37: 51201 | B37: 国内债务还本 | C37: =5300+553900 -> 559200 | D37: =5300+553900 -> 559200 | E37: 4522
A38: 513 | B38: 转移性支出 | E38: 0
A39: 51301 | B39: 上下级政府间转移性支出

Sheet 国资预算收入 
A1: 宁河区国有资本经营预算收入明细表
A2: 表七 | D2: 单位：万元
A3: 预 算 科 目 | B3: 2025年调整预算数 | C3: 2025年完成数 | D3: 2026年预算数
A4: 国有资本经营预算收入合计 | B4: =B5 -> 2785 | C4: =C5 -> 2156 | D4: =D5 -> 2100
A5: 一、利润收入 | B5: =B6+B7 -> 2785 | C5: =C6+C7 -> 2156 | D5: =SUM(D6:D7) -> 2100
A6: 投资服务企业利润收入 | B6: 2778 | C6: 2149 | D6: 2100
A7: 建筑施工企业利润收入 | B7: 7 | C7: 7
A8: 国有资本经营预算收入合计 | B8: =B4 -> 2785 | C8: =C4 -> 2156 | D8: =D4 -> 2100
A9: 加：市级补助收入 | B9: 12 | C9: 12 | D9: 8
A10: 上年结余收入 | B10: 12 | C10: 12 | D10: 16
A11: 国有资本经营预算收入总计 | B11: =B8+B10+B9 -> 2809 | C11: =C8+C10+C9 -> 2180 | D11: =D8+D10+D9 -> 2124

Sheet 国资经营预算支出功能分类明细表
B2: 宁河区国有资本经营预算支出功能分类明细表
A3: 表八 | E3: 单位：万元
A4: 科目编码 | B4: 科目名称 | C4: 2025年调整预算数 | D4: 2025年实际执行数 | E4: 2026年预算数
A5: 223 | B5: 国有资本经营预算支出 | C5: =C6+C9+C12 -> 23 | D5: =D6+D9+D12 -> 23 | E5: =E6+E9+E12 -> 352
A6: 22301 | B6: 解决历史遗留问题及改革成本支出 | C6: =SUM(C7:C8) -> 23 | D6: =SUM(D7:D8) -> 23 | E6: =SUM(E7:E8) -> 42
A7: 2230105 | B7: 国有企业退休人员社会化管理补助支出 | C7: 8 | D7: 8 | E7: 24
A8: 2230199 | B8: 其他解决历史遗留问题及改革成本支出 | C8: 15 | D8: 15 | E8: 18
A9: 22302 | B9: 国有企业资本金注入 | C9: =SUM(C10:C11) -> 0 | D9: =SUM(D10:D11) -> 0 | E9: =SUM(E10:E11) -> 100
A10: 2230201 | B10: 国有经济结构调整支出 | C10: 0 | E10: 100
A11: 2230205 | B11: 支持科技进步支出 | C11: 0
A12: 22399 | B12: 其他国有资本经营预算支出 | C12: =C13 -> 0 | D12: =D13 -> 0 | E12: =E13 -> 210
A13: 2239999 | B13: 其他国有资本经营预算支出 | C13: 0 | E13: 210
B14: 国有资本经营支出合计 | C14: =C5 -> 23 | D14: =D5 -> 23 | E14: =E5 -> 352
B15: 上解支出
B16: 调出资金 | C16: 2774 | D16: 2141 | E16: 1772
B17: 国有资本经营预算总支出 | C17: =C14+C15+C16 -> 2797 | D17: =D14+D15+D16 -> 2164 | E17: =E14+E15+E16 -> 2124
B18: 国有资本经营预算总收入 | C18: ='国资预算收入 '!B11 -> 2809 | D18: ='国资预算收入 '!C11 -> 2180 | E18: ='国资预算收入 '!D11 -> 2124
B19: 国有资本经营预算结余 | C19: =C18-C17 -> 12 | D19: =D18-D17 -> 16 | E19: =E18-E17 -> 0

Sheet 国资经营预算支出经济分类明细表
B1: 宁河区国有资本经营预算支出经济分类明细表
A2: 表九 | E2: 单位：万元
A3: 科目编码 | B3: 科目名称 | C3: 2025年调整预算数 | D3: 2025年实际执行数 | E3: 2026年预算数
B4: 国有资本经营预算支出经济分类合计 | C4: =C5+C7+C11 -> 23 | D4: =D5+D7+D11 -> 23 | E4: =E5+E7+E11 -> 352
A5: 502 | B5: 机关商品和服务支出 | C5: =C6 -> 15 | D5: =D6 -> 15 | E5: =E6 -> 18
A6: 50205 | B6: 委托业务费 | C6: 15 | D6: 15 | E6: 18
A7: 507 | B7: 对企业补助 | C7: =SUM(C8:C10) -> 8 | D7: =SUM(D8:D10) -> 8 | E7: =SUM(E8:E10) -> 234
A8: 50701 | B8: 费用补贴 | C8: 8 | D8: 8 | E8: 24
A9: 50702 | B9: 利息补贴
A10: 50799 | B10: 其他对企业补助 | E10: 210
A11: 508 | B11: 对企业资本性支出 | E11: =SUM(E12:E12) -> 100
A12: 50803 | B12: 资本金注入 | E12: 100
